BEGIN:VCALENDAR
VERSION:2.0
PRODID:-//KIDTHINK - ECPv6.15.20//NONSGML v1.0//EN
CALSCALE:GREGORIAN
METHOD:PUBLISH
X-ORIGINAL-URL:https://www.kidthink.ca
X-WR-CALDESC:Events for KIDTHINK
REFRESH-INTERVAL;VALUE=DURATION:PT1H
X-Robots-Tag:noindex
X-PUBLISHED-TTL:PT1H
BEGIN:VTIMEZONE
TZID:America/Winnipeg
BEGIN:DAYLIGHT
TZOFFSETFROM:-0600
TZOFFSETTO:-0500
TZNAME:CDT
DTSTART:20220313T080000
END:DAYLIGHT
BEGIN:STANDARD
TZOFFSETFROM:-0500
TZOFFSETTO:-0600
TZNAME:CST
DTSTART:20221106T070000
END:STANDARD
BEGIN:DAYLIGHT
TZOFFSETFROM:-0600
TZOFFSETTO:-0500
TZNAME:CDT
DTSTART:20230312T080000
END:DAYLIGHT
BEGIN:STANDARD
TZOFFSETFROM:-0500
TZOFFSETTO:-0600
TZNAME:CST
DTSTART:20231105T070000
END:STANDARD
BEGIN:DAYLIGHT
TZOFFSETFROM:-0600
TZOFFSETTO:-0500
TZNAME:CDT
DTSTART:20240310T080000
END:DAYLIGHT
BEGIN:STANDARD
TZOFFSETFROM:-0500
TZOFFSETTO:-0600
TZNAME:CST
DTSTART:20241103T070000
END:STANDARD
END:VTIMEZONE
BEGIN:VEVENT
DTSTART;TZID=America/Winnipeg:20230315T170000
DTEND;TZID=America/Winnipeg:20230315T190000
DTSTAMP:20260421T150647
CREATED:20230123T164219Z
LAST-MODIFIED:20230202T035615Z
UID:10000032-1678899600-1678906800@www.kidthink.ca
SUMMARY:ADHD for Caregivers
DESCRIPTION:The purpose of this workshop is to provide an overview of ADHD diagnosis and treatment. Participants can expect to learn about ADHD as a developmental disorder that begins early in childhood\, and participants will also learn about evidence-based approaches for treating ADHD. At the end of the workshop\, participants will be able to: \n\nIdentify the behaviours characteristic; key areas of functional impairment\, and symptom presentation of ADHD.\nIdentify and apply evidence-based parenting and teaching strategies for supporting children and youth with ADHD in the home\, classroom\, and community.\n\nThis event is being held online from 5:00 p.m. to 7:00 p.m. on March 15th\, 2023. The online event will be facilitated by Zoom. To attend\, please purchase a ticket below. If you have any questions\, please contact us by clicking here. \nPlease take a look at our Events Calendar to view and register for other upcoming workshops. We are currently offering workshops on ADHD\, Anxiety\, OCD\, Mindfulness\, Self-Regulation\, Sleep\, and Challenging Behaviour. \nIf it is difficult for you to afford this workshop\, please email us at info@kidthink.ca to inquire about financial assistance.
URL:https://www.kidthink.ca/event/adhd-for-caregivers/
LOCATION:KIDTHINK\, 407 Graham Avenue\, 2nd Floor\, Winnipeg\, Manitoba\, R3C 0L3\, Canada
CATEGORIES:Workshops
ATTACH;FMTTYPE=image/jpeg:https://www.kidthink.ca/wp-content/uploads/2023/01/thumbnails-01.jpg
END:VEVENT
END:VCALENDAR