BEGIN:VCALENDAR
VERSION:2.0
PRODID:-//KIDTHINK - ECPv6.15.20//NONSGML v1.0//EN
CALSCALE:GREGORIAN
METHOD:PUBLISH
X-ORIGINAL-URL:https://www.kidthink.ca
X-WR-CALDESC:Events for KIDTHINK
REFRESH-INTERVAL;VALUE=DURATION:PT1H
X-Robots-Tag:noindex
X-PUBLISHED-TTL:PT1H
BEGIN:VTIMEZONE
TZID:America/Winnipeg
BEGIN:DAYLIGHT
TZOFFSETFROM:-0600
TZOFFSETTO:-0500
TZNAME:CDT
DTSTART:20220313T080000
END:DAYLIGHT
BEGIN:STANDARD
TZOFFSETFROM:-0500
TZOFFSETTO:-0600
TZNAME:CST
DTSTART:20221106T070000
END:STANDARD
BEGIN:DAYLIGHT
TZOFFSETFROM:-0600
TZOFFSETTO:-0500
TZNAME:CDT
DTSTART:20230312T080000
END:DAYLIGHT
BEGIN:STANDARD
TZOFFSETFROM:-0500
TZOFFSETTO:-0600
TZNAME:CST
DTSTART:20231105T070000
END:STANDARD
BEGIN:DAYLIGHT
TZOFFSETFROM:-0600
TZOFFSETTO:-0500
TZNAME:CDT
DTSTART:20240310T080000
END:DAYLIGHT
BEGIN:STANDARD
TZOFFSETFROM:-0500
TZOFFSETTO:-0600
TZNAME:CST
DTSTART:20241103T070000
END:STANDARD
END:VTIMEZONE
BEGIN:VEVENT
DTSTART;TZID=America/Winnipeg:20230517T170000
DTEND;TZID=America/Winnipeg:20230517T190000
DTSTAMP:20260421T122036
CREATED:20230123T165025Z
LAST-MODIFIED:20230202T035601Z
UID:10000034-1684342800-1684350000@www.kidthink.ca
SUMMARY:Understanding Childhood OCD
DESCRIPTION:This workshop aims to provide participants with an understanding of what obsessive-compulsive disorder (OCD) is\, the ways in which OCD can present in children and youth\, as well as explore the impact OCD can have on the daily functioning of children. Lastly\, this workshop will provide participants with evidenced-based treatment approaches for treating OCD. At the end of the workshop\, participants will be able to: \n\nBe aware of the diagnostic criteria for OCD and have a basic understanding of using Exposure and Response Prevention (ERP) for treating OCD;\nIdentify the different ways in which OCD can present in children and youth;\nIdentify and apply evidence-based parenting strategies for supporting children and youth with OCD in the home\, classroom and community settings.\n\nThis event is being held online from 5:00 p.m. to 7:00 p.m. on May 17th\, 2023. The online event will be facilitated by Zoom. To attend\, please purchase a ticket below. If you have any questions\, please contact us by clicking here. \nPlease take a look at our Events Calendar to view and register for other upcoming workshops. We are currently offering workshops on ADHD\, Anxiety\, OCD\, Mindfulness\, Self-Regulation\, Sleep\, and Challenging Behaviour. \nIf it is difficult for you to afford this workshop\, please email us at info@kidthink.ca to inquire about financial assistance.
URL:https://www.kidthink.ca/event/understanding-childhood-ocd/
LOCATION:KIDTHINK\, 407 Graham Avenue\, 2nd Floor\, Winnipeg\, Manitoba\, R3C 0L3\, Canada
CATEGORIES:Workshops
ATTACH;FMTTYPE=image/jpeg:https://www.kidthink.ca/wp-content/uploads/2023/01/thumbnails-04.jpg
END:VEVENT
END:VCALENDAR