BEGIN:VCALENDAR
VERSION:2.0
PRODID:-//KIDTHINK - ECPv6.15.20//NONSGML v1.0//EN
CALSCALE:GREGORIAN
METHOD:PUBLISH
X-ORIGINAL-URL:https://www.kidthink.ca
X-WR-CALDESC:Events for KIDTHINK
REFRESH-INTERVAL;VALUE=DURATION:PT1H
X-Robots-Tag:noindex
X-PUBLISHED-TTL:PT1H
BEGIN:VTIMEZONE
TZID:America/Winnipeg
BEGIN:DAYLIGHT
TZOFFSETFROM:-0600
TZOFFSETTO:-0500
TZNAME:CDT
DTSTART:20220313T080000
END:DAYLIGHT
BEGIN:STANDARD
TZOFFSETFROM:-0500
TZOFFSETTO:-0600
TZNAME:CST
DTSTART:20221106T070000
END:STANDARD
BEGIN:DAYLIGHT
TZOFFSETFROM:-0600
TZOFFSETTO:-0500
TZNAME:CDT
DTSTART:20230312T080000
END:DAYLIGHT
BEGIN:STANDARD
TZOFFSETFROM:-0500
TZOFFSETTO:-0600
TZNAME:CST
DTSTART:20231105T070000
END:STANDARD
BEGIN:DAYLIGHT
TZOFFSETFROM:-0600
TZOFFSETTO:-0500
TZNAME:CDT
DTSTART:20240310T080000
END:DAYLIGHT
BEGIN:STANDARD
TZOFFSETFROM:-0500
TZOFFSETTO:-0600
TZNAME:CST
DTSTART:20241103T070000
END:STANDARD
END:VTIMEZONE
BEGIN:VEVENT
DTSTART;TZID=America/Winnipeg:20230914T170000
DTEND;TZID=America/Winnipeg:20230914T180000
DTSTAMP:20260421T064921
CREATED:20230718T200222Z
LAST-MODIFIED:20230722T034628Z
UID:10000050-1694710800-1694714400@www.kidthink.ca
SUMMARY:Circle of Security
DESCRIPTION:Cost: $200.00 for the full 10-session Circle of Security group course. \nThe Group runs every Thursday from September 14\, 2023 to November 16\, 2023 from 5:00pm - 6:00pm \nIf you have extended Health Care benefits\, you may be eligible for coverage. Please check your benefits package to determine whether your coverage includes services provided by a Clinical Psychologist Candidate (C.Psych Candidate) or a Registered Social Worker. \nThe Circle of Security is a program designed to support and enhance the quality of caregiver-child relationships and bonding. It is primarily rooted in attachment theory\, which emphasizes the importance of a secure and stable relationship between parents (or primary caregivers) and their children. \nThe program works by helping parents and caregivers understand their children's emotional world\, by teaching them to read emotional needs\, support their children's ability to successfully manage emotions\, and enhance the development of their child's self-esteem. \nThe Circle of Security framework aids caregivers in interpreting their child's behaviours in a way that enhances their ability to meet the child's needs. \nParents participating in the Circle of Security program learn to: \n\nUnderstand their child’s emotional world by learning to read their emotional needs\nSupport their child’s ability to successfully manage emotions\nEnhance the development of their child's self-esteem\nHonor their innate desire for independence\nPromote the child’s feeling of security\nRespond to the child’s need for connection\nCircle of Security is beneficial for parents of all backgrounds and the skills can be applied to children of all ages. It has been found effective in various settings\, including at-home parenting\, educational institutions\, and in clinical settings.
URL:https://www.kidthink.ca/event/circle-of-security/
LOCATION:Manitoba
CATEGORIES:Workshops
ATTACH;FMTTYPE=image/jpeg:https://www.kidthink.ca/wp-content/uploads/2023/07/small-black-girl-reading-a-book-with-her-parents-a-2023-01-31-19-56-26-utc-scaled.jpg
END:VEVENT
BEGIN:VEVENT
DTSTART;TZID=America/Winnipeg:20230920T170000
DTEND;TZID=America/Winnipeg:20230920T190000
DTSTAMP:20260421T064921
CREATED:20230123T172308Z
LAST-MODIFIED:20230905T202038Z
UID:10000038-1695229200-1695236400@www.kidthink.ca
SUMMARY:Understanding Depression in Youths
DESCRIPTION:Although we tend to associate low mood and other mental health concerns with adults\, children and youth can experience mental illnesses like depression. The purpose of this workshop is to challenge misconceptions\, help people to recognize the symptoms of depression and to learn strategies for supporting children and youth who experience low mood. At the end of the workshop\, participants will be able to: \n\nIdentify the causes and types of depression\nUnderstand the impact of depressive behaviours\, thoughts\, and emotions\nApply strategies to reduce levels of sadness and to increase feelings of happiness and hope\nEngage in supportive conversation\n\nThis event is being held online from 5:00 p.m. to 7:00 p.m. on September 20th\, 2023. The online event will be facilitated by Zoom. To attend\, please RSVP below. If you have any questions\, please contact us by clicking here. \nPlease take a look at our Events Calendar to view and register for other upcoming workshops. We are currently offering workshops on ADHD\, Anxiety\, OCD\, Mindfulness\, Self-Regulation\, Sleep\, and Challenging Behaviour.
URL:https://www.kidthink.ca/event/understanding-depression-in-youths/
LOCATION:KIDTHINK\, 407 Graham Avenue\, 2nd Floor\, Winnipeg\, Manitoba\, R3C 0L3\, Canada
CATEGORIES:Workshops
ATTACH;FMTTYPE=image/jpeg:https://www.kidthink.ca/wp-content/uploads/2023/01/thumbnails-05.jpg
END:VEVENT
END:VCALENDAR