BEGIN:VCALENDAR
VERSION:2.0
PRODID:-//KIDTHINK - ECPv6.15.20//NONSGML v1.0//EN
CALSCALE:GREGORIAN
METHOD:PUBLISH
X-WR-CALNAME:KIDTHINK
X-ORIGINAL-URL:https://www.kidthink.ca
X-WR-CALDESC:Events for KIDTHINK
REFRESH-INTERVAL;VALUE=DURATION:PT1H
X-Robots-Tag:noindex
X-PUBLISHED-TTL:PT1H
BEGIN:VTIMEZONE
TZID:America/Winnipeg
BEGIN:DAYLIGHT
TZOFFSETFROM:-0600
TZOFFSETTO:-0500
TZNAME:CDT
DTSTART:20230312T080000
END:DAYLIGHT
BEGIN:STANDARD
TZOFFSETFROM:-0500
TZOFFSETTO:-0600
TZNAME:CST
DTSTART:20231105T070000
END:STANDARD
BEGIN:DAYLIGHT
TZOFFSETFROM:-0600
TZOFFSETTO:-0500
TZNAME:CDT
DTSTART:20240310T080000
END:DAYLIGHT
BEGIN:STANDARD
TZOFFSETFROM:-0500
TZOFFSETTO:-0600
TZNAME:CST
DTSTART:20241103T070000
END:STANDARD
BEGIN:DAYLIGHT
TZOFFSETFROM:-0600
TZOFFSETTO:-0500
TZNAME:CDT
DTSTART:20250309T080000
END:DAYLIGHT
BEGIN:STANDARD
TZOFFSETFROM:-0500
TZOFFSETTO:-0600
TZNAME:CST
DTSTART:20251102T070000
END:STANDARD
END:VTIMEZONE
BEGIN:VEVENT
DTSTART;TZID=America/Winnipeg:20240221T170000
DTEND;TZID=America/Winnipeg:20240221T183000
DTSTAMP:20260420T235745
CREATED:20230707T174022Z
LAST-MODIFIED:20240213T201906Z
UID:10000046-1708534800-1708540200@www.kidthink.ca
SUMMARY:Mindfulness for Children and Caregivers
DESCRIPTION:This workshop is available for FREE thanks to the support from the Bell Let's Talk Community Fund! \n \nThe purpose of this workshop is to provide participants with an understanding of mindfulness\, and how it can support mental health and well-being in children and adults. The workshop will highlight of some of the research supporting its use for mental\, physical\, social and emotional well-being and identify the benefits for caregivers and children. \nThis event is being held online from 5:00 p.m. to 6:30 p.m. on February 21st\, 2024. The online event will be facilitated by Zoom. To attend\, please RSVP below. If you have any questions\, please contact us by clicking here. \nPlease take a look at our Events Calendar to view and register for other upcoming workshops. We are currently offering workshops on ADHD\, Anxiety\, OCD\, Mindfulness\, Self-Regulation\, Sleep\, and Challenging Behaviour.
URL:https://www.kidthink.ca/event/mindfulness-for-children-and-caregivers-3/
LOCATION:KIDTHINK\, 407 Graham Avenue\, 2nd Floor\, Winnipeg\, Manitoba\, R3C 0L3\, Canada
CATEGORIES:Workshops
ATTACH;FMTTYPE=image/jpeg:https://www.kidthink.ca/wp-content/uploads/2023/01/thumbnails-02.jpg
END:VEVENT
END:VCALENDAR