BEGIN:VCALENDAR
VERSION:2.0
PRODID:-//KIDTHINK - ECPv6.15.20//NONSGML v1.0//EN
CALSCALE:GREGORIAN
METHOD:PUBLISH
X-ORIGINAL-URL:https://www.kidthink.ca
X-WR-CALDESC:Events for KIDTHINK
REFRESH-INTERVAL;VALUE=DURATION:PT1H
X-Robots-Tag:noindex
X-PUBLISHED-TTL:PT1H
BEGIN:VTIMEZONE
TZID:America/Winnipeg
BEGIN:DAYLIGHT
TZOFFSETFROM:-0600
TZOFFSETTO:-0500
TZNAME:CDT
DTSTART:20230312T080000
END:DAYLIGHT
BEGIN:STANDARD
TZOFFSETFROM:-0500
TZOFFSETTO:-0600
TZNAME:CST
DTSTART:20231105T070000
END:STANDARD
BEGIN:DAYLIGHT
TZOFFSETFROM:-0600
TZOFFSETTO:-0500
TZNAME:CDT
DTSTART:20240310T080000
END:DAYLIGHT
BEGIN:STANDARD
TZOFFSETFROM:-0500
TZOFFSETTO:-0600
TZNAME:CST
DTSTART:20241103T070000
END:STANDARD
BEGIN:DAYLIGHT
TZOFFSETFROM:-0600
TZOFFSETTO:-0500
TZNAME:CDT
DTSTART:20250309T080000
END:DAYLIGHT
BEGIN:STANDARD
TZOFFSETFROM:-0500
TZOFFSETTO:-0600
TZNAME:CST
DTSTART:20251102T070000
END:STANDARD
END:VTIMEZONE
BEGIN:VEVENT
DTSTART;TZID=America/Winnipeg:20240320T170000
DTEND;TZID=America/Winnipeg:20240320T190000
DTSTAMP:20260420T223643
CREATED:20230707T173816Z
LAST-MODIFIED:20240116T181014Z
UID:10000045-1710954000-1710961200@www.kidthink.ca
SUMMARY:Self-Regulation in Children
DESCRIPTION:This workshop is available for FREE thanks to the support from the Bell Let's Talk Community Fund! \n \nThe purpose of this workshop is to provide participants with an understanding of self-regulation\, how to work with a child who has difficulties self-regulating and guidance on how to help a child develop their self-regulation skills.  At the end of this workshop\, participants will be able to: \n\nIdentify the building blocks necessary for developing self-regulation\nUnderstand the parent/caregiver/educator role in supporting the development of self-regulation skills in children\nHave some practical strategies that can be incorporated into home and classroom environments to help children with self-regulation\n\nThis event is being held online from 5:00 p.m. to 7:00 p.m. on March 20th\, 2024. The online event will be facilitated by Zoom. To attend\, please RSVP below. If you have any questions\, please contact us by clicking here. \nPlease take a look at our Events Calendar to view and register for other upcoming workshops. We are currently offering workshops on ADHD\, Anxiety\, OCD\, Mindfulness\, Self-Regulation\, Sleep\, and Challenging Behaviour.
URL:https://www.kidthink.ca/event/self-regulation-in-children-2/
LOCATION:KIDTHINK\, 407 Graham Avenue\, 2nd Floor\, Winnipeg\, Manitoba\, R3C 0L3\, Canada
CATEGORIES:Workshops
ATTACH;FMTTYPE=image/png:https://www.kidthink.ca/wp-content/uploads/2022/10/Self-Regulation.png
END:VEVENT
END:VCALENDAR