BEGIN:VCALENDAR
VERSION:2.0
PRODID:-//KIDTHINK - ECPv6.15.20//NONSGML v1.0//EN
CALSCALE:GREGORIAN
METHOD:PUBLISH
X-ORIGINAL-URL:https://www.kidthink.ca
X-WR-CALDESC:Events for KIDTHINK
REFRESH-INTERVAL;VALUE=DURATION:PT1H
X-Robots-Tag:noindex
X-PUBLISHED-TTL:PT1H
BEGIN:VTIMEZONE
TZID:America/Winnipeg
BEGIN:DAYLIGHT
TZOFFSETFROM:-0600
TZOFFSETTO:-0500
TZNAME:CDT
DTSTART:20230312T080000
END:DAYLIGHT
BEGIN:STANDARD
TZOFFSETFROM:-0500
TZOFFSETTO:-0600
TZNAME:CST
DTSTART:20231105T070000
END:STANDARD
BEGIN:DAYLIGHT
TZOFFSETFROM:-0600
TZOFFSETTO:-0500
TZNAME:CDT
DTSTART:20240310T080000
END:DAYLIGHT
BEGIN:STANDARD
TZOFFSETFROM:-0500
TZOFFSETTO:-0600
TZNAME:CST
DTSTART:20241103T070000
END:STANDARD
BEGIN:DAYLIGHT
TZOFFSETFROM:-0600
TZOFFSETTO:-0500
TZNAME:CDT
DTSTART:20250309T080000
END:DAYLIGHT
BEGIN:STANDARD
TZOFFSETFROM:-0500
TZOFFSETTO:-0600
TZNAME:CST
DTSTART:20251102T070000
END:STANDARD
END:VTIMEZONE
BEGIN:VEVENT
DTSTART;TZID=America/Winnipeg:20240515T170000
DTEND;TZID=America/Winnipeg:20240515T190000
DTSTAMP:20260420T194443
CREATED:20230707T173126Z
LAST-MODIFIED:20240116T181426Z
UID:10000043-1715792400-1715799600@www.kidthink.ca
SUMMARY:Understanding Depression in Youths
DESCRIPTION:This workshop is available for FREE thanks to the support from the Bell Let's Talk Community Fund! \n \nAlthough we tend to associate low mood and other mental health concerns with adults\, children and youth can experience mental illnesses like depression. The purpose of this workshop is to challenge misconceptions\, help people to recognize the symptoms of depression and to learn strategies for supporting children and youth who experience low mood. At the end of the workshop\, participants will be able to: \n\nIdentify the causes and types of depression\nUnderstand the impact of depressive behaviours\, thoughts\, and emotions\nApply strategies to reduce levels of sadness and to increase feelings of happiness and hope\nEngage in supportive conversation\n\nThis event is being held online from 5:00 p.m. to 7:00 p.m. on May 15th\, 2024. The online event will be facilitated by Zoom. To attend\, please RSVP below. If you have any questions\, please contact us by clicking here. \nPlease take a look at our Events Calendar to view and register for other upcoming workshops. We are currently offering workshops on ADHD\, Anxiety\, OCD\, Mindfulness\, Self-Regulation\, Sleep\, and Challenging Behaviour.
URL:https://www.kidthink.ca/event/understanding-depression-in-youths-2/
LOCATION:KIDTHINK\, 407 Graham Avenue\, 2nd Floor\, Winnipeg\, Manitoba\, R3C 0L3\, Canada
CATEGORIES:Workshops
ATTACH;FMTTYPE=image/jpeg:https://www.kidthink.ca/wp-content/uploads/2023/01/thumbnails-05.jpg
END:VEVENT
END:VCALENDAR